BEGIN:VCALENDAR
VERSION:2.0
PRODID:-//Sabre//Sabre VObject 4.5.8//EN
CALSCALE:GREGORIAN
BEGIN:VEVENT
UID:sabre-vobject-d08840cd-5af9-4950-965a-5fabf9628795
DTSTAMP:20260421T101212Z
SUMMARY:Eltern-Kind-Gruppe: Spiel u. Spaß für die Kinder\, Austausch übe
 r erziehungsrelevante Themen der Eltern
DESCRIPTION:https://keb-landkreis-augsburg.de/keb-landkreis-augsburg/verans
 taltungen-im-landkreis-augsburg/eltern-kind-gruppe-spiel-u-spass-fuer-die-
 kinder-austausch-ueber-erziehungsrelevante-themen-der-eltern_id315264
DTSTART;TZID=Europe/Berlin:20260630T093000
DTEND;TZID=Europe/Berlin:20260630T113000
LOCATION:Pfarrheim\, Augsburger Straße 1\, 86845 Großaitingen
END:VEVENT
END:VCALENDAR
