BEGIN:VCALENDAR
VERSION:2.0
PRODID:-//Sabre//Sabre VObject 4.5.8//EN
CALSCALE:GREGORIAN
BEGIN:VEVENT
UID:sabre-vobject-afb612fb-e337-43c5-a4be-19d4f49cd145
DTSTAMP:20260419T151031Z
SUMMARY:Eltern Kind Gruppe für Eltern/ Großeltern von Kleinkindern zur fr
 ühkindlichen Förderung
DESCRIPTION:https://keb-landkreis-augsburg.de/keb-landkreis-augsburg/verans
 taltungen-im-landkreis-augsburg/eltern-kind-gruppe-fuer-eltern-grosseltern
 -von-kleinkindern-zur-fruehkindlichen-foerderung_id316937
DTSTART;TZID=Europe/Berlin:20260721T093000
DTEND;TZID=Europe/Berlin:20260721T110000
LOCATION:Neusäß St. Ägidius\, Gregor-Mendel-Straße 1\, 86356 Neusäß
END:VEVENT
END:VCALENDAR
