BEGIN:VCALENDAR
VERSION:2.0
PRODID:-//Sabre//Sabre VObject 4.5.8//EN
CALSCALE:GREGORIAN
BEGIN:VEVENT
UID:sabre-vobject-dc4a5245-f851-4dec-955c-6956ecdd1160
DTSTAMP:20260423T225818Z
SUMMARY:Bibelgesprächskreis. Das Buch der Bücher genauer angeschaut...
DESCRIPTION:https://keb-landkreis-augsburg.de/keb-landkreis-augsburg/verans
 taltungen-im-landkreis-augsburg/bibelgespraechskreis-das-buch-der-buecher-
 genauer-angeschaut_id318790
DTSTART;TZID=Europe/Berlin:20260507T190000
DTEND;TZID=Europe/Berlin:20260507T203000
LOCATION:Pfarrheim\, Hauptstraße 20\, 86405 Meitingen
END:VEVENT
END:VCALENDAR
