BEGIN:VCALENDAR
VERSION:2.0
PRODID:-//Sabre//Sabre VObject 4.5.8//EN
CALSCALE:GREGORIAN
BEGIN:VEVENT
UID:sabre-vobject-e15046cb-b494-4ab5-b4f4-9b00ac9c9d7a
DTSTAMP:20260423T231201Z
SUMMARY:Bibelgesprächskreis. Das Buch der Bücher genauer angeschaut...
DESCRIPTION:https://keb-landkreis-augsburg.de/keb-landkreis-augsburg/verans
 taltungen-im-landkreis-augsburg/bibelgespraechskreis-das-buch-der-buecher-
 genauer-angeschaut_id318796
DTSTART;TZID=Europe/Berlin:20260618T190000
DTEND;TZID=Europe/Berlin:20260618T203000
LOCATION:Pfarrheim\, Hauptstraße 20\, 86405 Meitingen
END:VEVENT
END:VCALENDAR
