BEGIN:VCALENDAR
VERSION:2.0
PRODID:-//Sabre//Sabre VObject 4.5.8//EN
CALSCALE:GREGORIAN
BEGIN:VEVENT
UID:sabre-vobject-239f161c-733d-4cc6-8817-f6af4c9f90ac
DTSTAMP:20260421T084421Z
SUMMARY:Eltern Kind Gruppe: Diskussionsraum über pädagogische\, psycholog
 ische und gesellschaftliche Themen rund um die Familie
DESCRIPTION:https://keb-landkreis-augsburg.de/keb-landkreis-augsburg/verans
 taltungen-im-landkreis-augsburg/eltern-kind-gruppe-diskussionsraum-ueber-p
 aedagogische-psychologische-und-gesellschaftliche-themen-rund-um-die-famil
 ie_id318844
DTSTART;TZID=Europe/Berlin:20260626T093000
DTEND;TZID=Europe/Berlin:20260626T110000
LOCATION:Pfarrheim\, Pfarrer-Ledermann-Platz 6\, 86456 Gablingen
END:VEVENT
END:VCALENDAR
