BEGIN:VCALENDAR
VERSION:2.0
PRODID:-//Sabre//Sabre VObject 4.5.8//EN
CALSCALE:GREGORIAN
BEGIN:VEVENT
UID:sabre-vobject-d216fdc2-7283-41c8-b963-7d38768f7f6c
DTSTAMP:20260419T135415Z
SUMMARY:Eltern Kind Gruppe für alle Eltern mit Kleinkindern Mittwochsgrupp
 e
DESCRIPTION:https://keb-landkreis-augsburg.de/keb-landkreis-augsburg/verans
 taltungen-im-landkreis-augsburg/eltern-kind-gruppe-fuer-alle-eltern-mit-kl
 einkindern-mittwochsgruppe_id318897
DTSTART;TZID=Europe/Berlin:20260701T093000
DTEND;TZID=Europe/Berlin:20260701T110000
LOCATION:Pfarrheim\, Hauptstraße 4\, 86850 Fischach
END:VEVENT
END:VCALENDAR
