BEGIN:VCALENDAR
VERSION:2.0
PRODID:-//Sabre//Sabre VObject 4.5.8//EN
CALSCALE:GREGORIAN
BEGIN:VEVENT
UID:sabre-vobject-3bacbe6d-d5e7-4dc1-bb98-2da1087612df
DTSTAMP:20260419T170445Z
SUMMARY:Eltern Kind Gruppe für alle Eltern mit Kleinkindern Mittwochsgrupp
 e
DESCRIPTION:https://keb-landkreis-augsburg.de/keb-landkreis-augsburg/verans
 taltungen-im-landkreis-augsburg/eltern-kind-gruppe-fuer-alle-eltern-mit-kl
 einkindern-mittwochsgruppe_id318898
DTSTART;TZID=Europe/Berlin:20260708T093000
DTEND;TZID=Europe/Berlin:20260708T110000
LOCATION:Pfarrheim\, Hauptstraße 4\, 86850 Fischach
END:VEVENT
END:VCALENDAR
