BEGIN:VCALENDAR
VERSION:2.0
PRODID:-//Sabre//Sabre VObject 4.5.8//EN
CALSCALE:GREGORIAN
BEGIN:VEVENT
UID:sabre-vobject-5a1fcd39-d4cf-4c89-940b-07d430725014
DTSTAMP:20260419T141457Z
SUMMARY:Eltern Kind Gruppe für alle Eltern mit Kleinkindern Mittwochsgrupp
 e
DESCRIPTION:https://keb-landkreis-augsburg.de/keb-landkreis-augsburg/verans
 taltungen-im-landkreis-augsburg/eltern-kind-gruppe-fuer-alle-eltern-mit-kl
 einkindern-mittwochsgruppe_id318900
DTSTART;TZID=Europe/Berlin:20260722T093000
DTEND;TZID=Europe/Berlin:20260722T110000
LOCATION:Pfarrheim\, Hauptstraße 4\, 86850 Fischach
END:VEVENT
END:VCALENDAR
