BEGIN:VCALENDAR
VERSION:2.0
PRODID:-//Sabre//Sabre VObject 4.5.8//EN
CALSCALE:GREGORIAN
BEGIN:VEVENT
UID:sabre-vobject-3cb408ea-3f7c-48f2-8e30-d0411e0bb1f3
DTSTAMP:20260421T101108Z
SUMMARY:Eltern Kind Gruppe für alle Eltern mit Kleinkindern Mittwochsgrupp
 e
DESCRIPTION:https://keb-landkreis-augsburg.de/keb-landkreis-augsburg/verans
 taltungen-im-landkreis-augsburg/eltern-kind-gruppe-fuer-alle-eltern-mit-kl
 einkindern-mittwochsgruppe_id318901
DTSTART;TZID=Europe/Berlin:20260729T093000
DTEND;TZID=Europe/Berlin:20260729T110000
LOCATION:Pfarrheim\, Hauptstraße 4\, 86850 Fischach
END:VEVENT
END:VCALENDAR
