BEGIN:VCALENDAR
VERSION:2.0
PRODID:-//Sabre//Sabre VObject 4.5.8//EN
CALSCALE:GREGORIAN
BEGIN:VEVENT
UID:sabre-vobject-ce08821c-0b02-47db-931a-7a0b27bb33b0
DTSTAMP:20260423T231039Z
SUMMARY:Bewegung hält fit und fördert die Gesundheit
DESCRIPTION:https://keb-landkreis-augsburg.de/keb-landkreis-augsburg/verans
 taltungen-im-landkreis-augsburg/bewegung-haelt-fit-und-foerdert-die-gesund
 heit_id320870
DTSTART;TZID=Europe/Berlin:20260619T140000
LOCATION:Pfarrheim\, Adelgundisstraße 12\, 86420 Diedorf
END:VEVENT
END:VCALENDAR
