BEGIN:VCALENDAR
VERSION:2.0
PRODID:-//Sabre//Sabre VObject 4.5.8//EN
CALSCALE:GREGORIAN
BEGIN:VEVENT
UID:sabre-vobject-a01e6795-77a5-4254-a588-e9cd72cfd026
DTSTAMP:20260423T000932Z
SUMMARY:Was macht ein Gefängnis-Seelsorger
DESCRIPTION:https://keb-landkreis-augsburg.de/keb-landkreis-augsburg/verans
 taltungen-im-landkreis-augsburg/was-macht-ein-gefaengnis-seelsorger_id3208
 73
DTSTART;TZID=Europe/Berlin:20260618T143000
LOCATION:Pfarrhof\, Biburger Straße 8\, 86420 Diedorf
END:VEVENT
END:VCALENDAR
