BEGIN:VCALENDAR
VERSION:2.0
PRODID:-//Sabre//Sabre VObject 4.5.8//EN
CALSCALE:GREGORIAN
BEGIN:VEVENT
UID:sabre-vobject-f7baa35a-92c8-427a-a4fc-3d3780465133
DTSTAMP:20260421T101047Z
SUMMARY:Führung im Botanischen Garten Augsburg
DESCRIPTION:https://keb-landkreis-augsburg.de/keb-landkreis-augsburg/verans
 taltungen-im-landkreis-augsburg/fuehrung-im-botanischen-garten-augsburg_id
 321992
DTSTART;TZID=Europe/Berlin:20260611T140000
LOCATION:Botanischer Garten\, Dr.-Ziegenspeck-Weg 10\, 86161 Augsburg
END:VEVENT
END:VCALENDAR
