BEGIN:VCALENDAR
VERSION:2.0
PRODID:-//Sabre//Sabre VObject 4.5.8//EN
CALSCALE:GREGORIAN
BEGIN:VEVENT
UID:sabre-vobject-3a8512a8-4755-4190-a58b-795cf98309f2
DTSTAMP:20260424T225634Z
SUMMARY:Trauergehen mit dem Trauerkreis: Wegbegleitung bei der Trauer - Hil
 fe zur Selbsthilfe
DESCRIPTION:https://keb-landkreis-augsburg.de/keb-landkreis-augsburg/verans
 taltungen-im-landkreis-augsburg/trauergehen-mit-dem-trauerkreis-wegbegleit
 ung-bei-der-trauer-hilfe-zur-selbsthilfe_id322034
DTSTART;TZID=Europe/Berlin:20260620T140000
DTEND;TZID=Europe/Berlin:20260620T160000
LOCATION:Luitpoldpark\, Riedstraße\, 86830 Schwabmünchen
END:VEVENT
END:VCALENDAR
