BEGIN:VCALENDAR
VERSION:2.0
PRODID:-//Sabre//Sabre VObject 4.5.8//EN
CALSCALE:GREGORIAN
BEGIN:VEVENT
UID:sabre-vobject-69156474-56d2-4584-bb51-6ba0c369c203
DTSTAMP:20260423T000534Z
SUMMARY:Der Gersthofer Tisch
DESCRIPTION:https://keb-landkreis-augsburg.de/keb-landkreis-augsburg/verans
 taltungen-im-landkreis-augsburg/der-gersthofer-tisch_id322055
DTSTART;TZID=Europe/Berlin:20260618T143000
LOCATION:Wirtshaus am Sportplatz\, Sportallee 2\, 86368 Gersthofen
END:VEVENT
END:VCALENDAR
