BEGIN:VCALENDAR
VERSION:2.0
PRODID:-//Sabre//Sabre VObject 4.5.8//EN
CALSCALE:GREGORIAN
BEGIN:VEVENT
UID:sabre-vobject-f4dc57c5-2ca1-4264-afd2-94e6e7d50f6f
DTSTAMP:20260421T102337Z
SUMMARY:Eltern-Kind-Gruppe: Erziehungskompetenzen stärken / wichtige Erzie
 hungsthemen
DESCRIPTION:https://keb-landkreis-augsburg.de/keb-landkreis-augsburg/verans
 taltungen-im-landkreis-augsburg/eltern-kind-gruppe-erziehungskompetenzen-s
 taerken-wichtige-erziehungsthemen_id322096
DTSTART;TZID=Europe/Berlin:20260728T093000
DTEND;TZID=Europe/Berlin:20260728T110000
LOCATION:Gemeindezimmer "Alte Schule"\, St.-Stephanus-Straße 3\, 86441 Zus
 marshausen
END:VEVENT
END:VCALENDAR
