BEGIN:VCALENDAR
VERSION:2.0
PRODID:-//Sabre//Sabre VObject 4.5.8//EN
CALSCALE:GREGORIAN
BEGIN:VEVENT
UID:sabre-vobject-81e14103-52d2-4d6b-82c3-b6bc59d28509
DTSTAMP:20260423T042943Z
SUMMARY:Pflegebedarf – Was nun?
DESCRIPTION:https://keb-landkreis-augsburg.de/keb-landkreis-augsburg/verans
 taltungen-im-landkreis-augsburg/pflegebedarf-was-nun_id322116
DTSTART;TZID=Europe/Berlin:20260716T143000
LOCATION:Wirtshaus am Sprotplatz\, Sportallee 2\, 86368 Gersthofen
END:VEVENT
END:VCALENDAR
