BEGIN:VCALENDAR
VERSION:2.0
PRODID:-//Sabre//Sabre VObject 4.5.8//EN
CALSCALE:GREGORIAN
BEGIN:VEVENT
UID:sabre-vobject-14f51170-f068-46ee-87b1-ea431b7ecaeb
DTSTAMP:20260419T150829Z
SUMMARY:Eltern Kind Gruppe: Eltern im Austausch von erziehungsrelevanten Th
 emen\, Singen und Basteln\, Kleinkinder fördern
DESCRIPTION:https://keb-landkreis-augsburg.de/keb-landkreis-augsburg/verans
 taltungen-im-landkreis-augsburg/eltern-kind-gruppe-eltern-im-austausch-von
 -erziehungsrelevanten-themen-singen-und-basteln-kleinkinder-foerdern_id323
 033
DTSTART;TZID=Europe/Berlin:20260708T090000
DTEND;TZID=Europe/Berlin:20260708T110000
LOCATION:Pfarrheim\, Adelgundisstraße 12\, 86420 Diedorf
END:VEVENT
END:VCALENDAR
