BEGIN:VCALENDAR
VERSION:2.0
PRODID:-//Sabre//Sabre VObject 4.5.8//EN
CALSCALE:GREGORIAN
BEGIN:VEVENT
UID:sabre-vobject-93f174e2-07ae-407c-8646-fcce59118d1e
DTSTAMP:20260419T150828Z
SUMMARY:Eltern-Kind-Gruppe: Spielen und Spaß für die Kinder\, Austausch 
 über Erziehungsrelevante Themen für die Eltern
DESCRIPTION:https://keb-landkreis-augsburg.de/keb-landkreis-augsburg/verans
 taltungen-im-landkreis-augsburg/eltern-kind-gruppe-spielen-und-spass-fuer-
 die-kinder-austausch-ueber-erziehungsrelevante-themen-fuer-die-eltern_id32
 3206
DTSTART;TZID=Europe/Berlin:20260708T090000
DTEND;TZID=Europe/Berlin:20260708T100000
LOCATION:Pfarrheim Langenneufnach\, Rathausstraße 23\, 86863 Langenneufnac
 h
END:VEVENT
END:VCALENDAR
