BEGIN:VCALENDAR
VERSION:2.0
PRODID:-//Sabre//Sabre VObject 4.5.8//EN
CALSCALE:GREGORIAN
BEGIN:VEVENT
UID:sabre-vobject-f87283be-cf45-4b38-87a7-e82b57f465a7
DTSTAMP:20260419T164638Z
SUMMARY:Eltern Kind Gruppe: Erfahrungsaustausch zur Erziehung für Eltern v
 on Kleinkindern
DESCRIPTION:https://keb-landkreis-augsburg.de/keb-landkreis-augsburg/verans
 taltungen-im-landkreis-augsburg/eltern-kind-gruppe-erfahrungsaustausch-zur
 -erziehung-fuer-eltern-von-kleinkindern_id324117
DTSTART;TZID=Europe/Berlin:20260709T093000
DTEND;TZID=Europe/Berlin:20260709T113000
LOCATION:Wallfahrtskirche St. Michaeal\, Pius-Mozet-Straße 4\, 86450 Alten
 münster
END:VEVENT
END:VCALENDAR
