BEGIN:VCALENDAR
VERSION:2.0
PRODID:-//Sabre//Sabre VObject 4.5.8//EN
CALSCALE:GREGORIAN
BEGIN:VEVENT
UID:sabre-vobject-67042a36-13ea-48ba-a692-b270a23175aa
DTSTAMP:20260419T133228Z
SUMMARY:Eltern-Kind-Gruppe: Austausch zu aktuellen Erziehungsfragen
DESCRIPTION:https://keb-landkreis-augsburg.de/keb-landkreis-augsburg/verans
 taltungen-im-landkreis-augsburg/eltern-kind-gruppe-austausch-zu-aktuellen-
 erziehungsfragen_id324217
DTSTART;TZID=Europe/Berlin:20260706T090000
DTEND;TZID=Europe/Berlin:20260706T110000
LOCATION:Pfarrheim\, Kirchplatz 1\, 86368 Gersthofen
END:VEVENT
END:VCALENDAR
