BEGIN:VCALENDAR
VERSION:2.0
PRODID:-//Sabre//Sabre VObject 4.5.8//EN
CALSCALE:GREGORIAN
BEGIN:VEVENT
UID:sabre-vobject-8d0b71ec-31eb-465b-bd09-a6ee356cefb4
DTSTAMP:20260421T130439Z
SUMMARY:Eltern-Kind-Gruppe: Austausch zu aktuellen Erziehungsfragen
DESCRIPTION:https://keb-landkreis-augsburg.de/keb-landkreis-augsburg/verans
 taltungen-im-landkreis-augsburg/eltern-kind-gruppe-austausch-zu-aktuellen-
 erziehungsfragen_id324218
DTSTART;TZID=Europe/Berlin:20260713T090000
DTEND;TZID=Europe/Berlin:20260713T110000
LOCATION:Pfarrheim\, Kirchplatz 1\, 86368 Gersthofen
END:VEVENT
END:VCALENDAR
