BEGIN:VCALENDAR
VERSION:2.0
PRODID:-//Sabre//Sabre VObject 4.5.8//EN
CALSCALE:GREGORIAN
BEGIN:VEVENT
UID:sabre-vobject-72fba975-cb73-4218-88be-dcad543fb1f6
DTSTAMP:20260419T120516Z
SUMMARY:Eltern-Kind-Gruppe: Austausch zu aktuellen Erziehungsfragen
DESCRIPTION:https://keb-landkreis-augsburg.de/keb-landkreis-augsburg/verans
 taltungen-im-landkreis-augsburg/eltern-kind-gruppe-austausch-zu-aktuellen-
 erziehungsfragen_id324220
DTSTART;TZID=Europe/Berlin:20260727T090000
DTEND;TZID=Europe/Berlin:20260727T110000
LOCATION:Pfarrheim\, Kirchplatz 1\, 86368 Gersthofen
END:VEVENT
END:VCALENDAR
