BEGIN:VCALENDAR
VERSION:2.0
PRODID:-//Sabre//Sabre VObject 4.5.8//EN
CALSCALE:GREGORIAN
BEGIN:VEVENT
UID:sabre-vobject-bc4f84da-73a0-48f3-81f1-c9eb20b72c16
DTSTAMP:20260419T153016Z
SUMMARY:Eltern Kind Gruppe: Erfahrungsaustausch zur Erziehung für Eltern v
 on Kleinkindern
DESCRIPTION:https://keb-landkreis-augsburg.de/keb-landkreis-augsburg/verans
 taltungen-im-landkreis-augsburg/eltern-kind-gruppe-erfahrungsaustausch-zur
 -erziehung-fuer-eltern-von-kleinkindern_id324386
DTSTART;TZID=Europe/Berlin:20260708T090000
DTEND;TZID=Europe/Berlin:20260708T110000
LOCATION:Pfarrheim\, St.-Michael-Straße 8\, 86450 Altenmünster
END:VEVENT
END:VCALENDAR
