BEGIN:VCALENDAR
VERSION:2.0
PRODID:-//Sabre//Sabre VObject 4.5.8//EN
CALSCALE:GREGORIAN
BEGIN:VEVENT
UID:sabre-vobject-10dd059a-15a7-45e7-a2d6-d01d61f44fdd
DTSTAMP:20260419T142428Z
SUMMARY:Eltern Kind Gruppe: Erfahrungsaustausch zur Erziehung für Eltern v
 on Kleinkindern
DESCRIPTION:https://keb-landkreis-augsburg.de/keb-landkreis-augsburg/verans
 taltungen-im-landkreis-augsburg/eltern-kind-gruppe-erfahrungsaustausch-zur
 -erziehung-fuer-eltern-von-kleinkindern_id324388
DTSTART;TZID=Europe/Berlin:20260722T090000
DTEND;TZID=Europe/Berlin:20260722T110000
LOCATION:Pfarrheim\, St.-Michael-Straße 8\, 86450 Altenmünster
END:VEVENT
END:VCALENDAR
