BEGIN:VCALENDAR
VERSION:2.0
PRODID:-//Sabre//Sabre VObject 4.5.8//EN
CALSCALE:GREGORIAN
BEGIN:VEVENT
UID:sabre-vobject-579d3a9b-8c1c-4221-8be6-a7d162f712a1
DTSTAMP:20260425T105446Z
SUMMARY:Eltern Kind Gruppe: Erfahrungsaustausch zur Erziehung für Eltern v
 on Kleinkindern
DESCRIPTION:https://keb-landkreis-augsburg.de/keb-landkreis-augsburg/verans
 taltungen-im-landkreis-augsburg/eltern-kind-gruppe-erfahrungsaustausch-zur
 -erziehung-fuer-eltern-von-kleinkindern_id324389
DTSTART;TZID=Europe/Berlin:20260729T090000
DTEND;TZID=Europe/Berlin:20260729T110000
LOCATION:Pfarrheim\, St.-Michael-Straße 8\, 86450 Altenmünster
END:VEVENT
END:VCALENDAR
