BEGIN:VCALENDAR
VERSION:2.0
PRODID:-//Sabre//Sabre VObject 4.5.8//EN
CALSCALE:GREGORIAN
BEGIN:VEVENT
UID:sabre-vobject-daf560f4-f3fc-4d91-a662-84f31229603d
DTSTAMP:20260421T084533Z
SUMMARY:EKG - Spiel und Spaß für die Kinder\, Austausch über erziehungsr
 elevanten Themen der Eltern
DESCRIPTION:https://keb-landkreis-augsburg.de/keb-landkreis-augsburg/verans
 taltungen-im-landkreis-augsburg/ekg-spiel-und-spass-fuer-die-kinder-austau
 sch-ueber-erziehungsrelevanten-themen-der-eltern_id324414
DTSTART;TZID=Europe/Berlin:20260626T100000
DTEND;TZID=Europe/Berlin:20260626T113000
LOCATION:Pfarrheim\, Am Kirchberg 1\, 86507 Kleinaitingen
END:VEVENT
END:VCALENDAR
