BEGIN:VCALENDAR
VERSION:2.0
PRODID:-//Sabre//Sabre VObject 4.5.8//EN
CALSCALE:GREGORIAN
BEGIN:VEVENT
UID:sabre-vobject-0f1a24a4-2f07-4841-9d93-8bb0086f9934
DTSTAMP:20260419T182951Z
SUMMARY:EKG - Spiel und Spaß für die Kinder\, Austausch über erziehungsr
 elevanten Themen der Eltern
DESCRIPTION:https://keb-landkreis-augsburg.de/keb-landkreis-augsburg/verans
 taltungen-im-landkreis-augsburg/ekg-spiel-und-spass-fuer-die-kinder-austau
 sch-ueber-erziehungsrelevanten-themen-der-eltern_id324416
DTSTART;TZID=Europe/Berlin:20260710T100000
DTEND;TZID=Europe/Berlin:20260710T113000
LOCATION:Pfarrheim\, Am Kirchberg 1\, 86507 Kleinaitingen
END:VEVENT
END:VCALENDAR
