BEGIN:VCALENDAR
VERSION:2.0
PRODID:-//Sabre//Sabre VObject 4.5.8//EN
CALSCALE:GREGORIAN
BEGIN:VEVENT
UID:sabre-vobject-0b8cb0a5-b856-4cc6-a792-86da73c7967c
DTSTAMP:20260419T124726Z
SUMMARY:Eltern Kind Gruppe: Diskussionsraum über pädagogische\, psycholog
 ische und gesellschaftliche Themen rund um die Familie
DESCRIPTION:https://keb-landkreis-augsburg.de/keb-landkreis-augsburg/verans
 taltungen-im-landkreis-augsburg/eltern-kind-gruppe-diskussionsraum-ueber-p
 aedagogische-psychologische-und-gesellschaftliche-themen-rund-um-die-famil
 ie_id325103
DTSTART;TZID=Europe/Berlin:20260724T093000
DTEND;TZID=Europe/Berlin:20260724T110000
LOCATION:Pfarrheim\, Martinstraße 6\, 86368 Gersthofen
END:VEVENT
END:VCALENDAR
