BEGIN:VCALENDAR
VERSION:2.0
PRODID:-//Sabre//Sabre VObject 4.5.8//EN
CALSCALE:GREGORIAN
BEGIN:VEVENT
UID:sabre-vobject-dff032fd-ebfb-43eb-89b5-e069be75a4fe
DTSTAMP:20260421T014244Z
SUMMARY:Schloss und Flugwerft Schleißheim
DESCRIPTION:https://keb-landkreis-augsburg.de/keb-landkreis-augsburg/verans
 taltungen-im-landkreis-augsburg/schloss-und-flugwerft-schleissheim_id32657
 8
DTSTART;TZID=Europe/Berlin:20260613T083000
LOCATION:Schloss Schleißheim\, Max-Emanuel-Platz 1\, 85764 Oberschleißhei
 m
END:VEVENT
END:VCALENDAR
