BEGIN:VCALENDAR
VERSION:2.0
PRODID:-//Sabre//Sabre VObject 4.5.8//EN
CALSCALE:GREGORIAN
BEGIN:VEVENT
UID:sabre-vobject-6d6c1471-44b4-481c-9a75-46b21cf33044
DTSTAMP:20260421T100733Z
SUMMARY:Offener Handarbeitstreff
DESCRIPTION:https://keb-landkreis-augsburg.de/keb-landkreis-augsburg/verans
 taltungen-im-landkreis-augsburg/offener-handarbeitstreff_id327193
DTSTART;TZID=Europe/Berlin:20260804T143000
DTEND;TZID=Europe/Berlin:20260804T163000
LOCATION:Pfarrzentrum\, Auer Kirchweg 2\, 86424 Dinkelscherben
END:VEVENT
END:VCALENDAR
