BEGIN:VCALENDAR
VERSION:2.0
PRODID:-//Sabre//Sabre VObject 4.5.8//EN
CALSCALE:GREGORIAN
BEGIN:VEVENT
UID:sabre-vobject-ad94cf53-c451-49ca-8fb6-38d9ca524f1c
DTSTAMP:20260422T023821Z
SUMMARY:„Lesen verleiht Flügel" - Buchlesung mit anschl. Besprechung - L
 ukas Rietzschel "Sanditz"
DESCRIPTION:https://keb-landkreis-augsburg.de/keb-landkreis-augsburg/verans
 taltungen-im-landkreis-augsburg/lesen-verleiht-fluegel-buchlesung-mit-ansc
 hl-besprechung-lukas-rietzschel-sanditz_id327216
DTSTART;TZID=Europe/Berlin:20260430T160000
LOCATION:Pfarrheim\, Marienplatz 3\, 86420 Diedorf
END:VEVENT
END:VCALENDAR
