BEGIN:VCALENDAR
VERSION:2.0
PRODID:-//Sabre//Sabre VObject 4.5.8//EN
CALSCALE:GREGORIAN
BEGIN:VEVENT
UID:sabre-vobject-81a6c33f-1292-47f8-9c5a-636247750423
DTSTAMP:20260420T193527Z
SUMMARY:Seniorenfrühstück mit Vortrag
DESCRIPTION:https://keb-landkreis-augsburg.de/keb-landkreis-augsburg/verans
 taltungen-im-landkreis-augsburg/seniorenfruehstueck-mit-vortrag_id327220
DTSTART;TZID=Europe/Berlin:20260506T090000
LOCATION:Laurentiushaus\, Pestalozzistraße 6\, 86399 Bobingen
END:VEVENT
END:VCALENDAR
