BEGIN:VCALENDAR
VERSION:2.0
PRODID:-//Sabre//Sabre VObject 4.5.8//EN
CALSCALE:GREGORIAN
BEGIN:VEVENT
UID:sabre-vobject-f94b0562-38d2-458f-88be-35f5c554e2d5
DTSTAMP:20260420T130847Z
SUMMARY:Bibelgesprächskreis "Immer wieder Ostern" (Joh 21\,1-14)  Ende und
  Neubeginn
DESCRIPTION:https://keb-landkreis-augsburg.de/keb-landkreis-augsburg/verans
 taltungen-im-landkreis-augsburg/bibelgespraechskreis-immer-wieder-ostern-j
 oh-21-1-14-ende-und-neubeginn_id327221
DTSTART;TZID=Europe/Berlin:20260421T200000
LOCATION:Pfarrheim\, Marienplatz 3\, 86420 Diedorf
END:VEVENT
END:VCALENDAR
