BEGIN:VCALENDAR
VERSION:2.0
PRODID:-//Sabre//Sabre VObject 4.5.8//EN
CALSCALE:GREGORIAN
BEGIN:VEVENT
UID:sabre-vobject-520a68b4-e286-4805-9fb2-b37a68369cce
DTSTAMP:20260425T140916Z
SUMMARY:Die Welt der Smartphones &Tablets
DESCRIPTION:https://keb-landkreis-augsburg.de/keb-landkreis-augsburg/verans
 taltungen-im-landkreis-augsburg/die-welt-der-smartphones-tablets_id327223
DTSTART;TZID=Europe/Berlin:20260429T140000
LOCATION:Gasthof Drechsel\, Friedenstraße 1\, 86517 Wehringen
END:VEVENT
END:VCALENDAR
