BEGIN:VCALENDAR
VERSION:2.0
PRODID:-//Sabre//Sabre VObject 4.5.8//EN
CALSCALE:GREGORIAN
BEGIN:VEVENT
UID:sabre-vobject-4285b2dd-d365-4b83-95ca-ca628927ac0d
DTSTAMP:20260421T212443Z
SUMMARY:Usbekistan
DESCRIPTION:https://keb-landkreis-augsburg.de/keb-landkreis-augsburg/verans
 taltungen-im-landkreis-augsburg/usbekistan_id327225
DTSTART;TZID=Europe/Berlin:20260506T140000
LOCATION:Pfarrheim\, Mühlstraße 9\, 86405 Meitingen
END:VEVENT
END:VCALENDAR
