BEGIN:VCALENDAR
VERSION:2.0
PRODID:-//Sabre//Sabre VObject 4.5.8//EN
CALSCALE:GREGORIAN
BEGIN:VEVENT
UID:sabre-vobject-8f591160-4162-4682-aa20-d18597dd5ade
DTSTAMP:20260421T143235Z
SUMMARY:Maria - christlich - jüdisch - muslimisch
DESCRIPTION:https://keb-landkreis-augsburg.de/keb-landkreis-augsburg/verans
 taltungen-im-landkreis-augsburg/maria-christlich-juedisch-muslimisch_id576
 79
DTSTART;TZID=Europe/Berlin:20211112T090000
LOCATION:Haus Sankt Ulrich\, Kappelberg 1\, 86150 Augsburg
END:VEVENT
END:VCALENDAR
