BEGIN:VCALENDAR
VERSION:2.0
PRODID:-//Sabre//Sabre VObject 4.5.8//EN
CALSCALE:GREGORIAN
BEGIN:VEVENT
UID:sabre-vobject-6b9778b3-c7aa-46b9-b801-226d2216205f
DTSTAMP:20260425T033611Z
SUMMARY:Online Seminar: Schöpfungsspiritualität wird zur Tat-Sache
DESCRIPTION:https://keb-landkreis-augsburg.de/keb-landkreis-augsburg/verans
 taltungen-im-landkreis-augsburg/online-seminar-schoepfungsspiritualitaet-w
 ird-zur-tat-sache_id58308
DTSTART;TZID=Europe/Berlin:20210929T193000
LOCATION:Erwachsenenbildung\, Katholische\, Nordstraße 18\, 86462 Langweid
  am Lech
END:VEVENT
END:VCALENDAR
